BEGIN:VCALENDAR
VERSION:2.0
PRODID:-//The Arc of Pennsylvania - ECPv6.15.20//NONSGML v1.0//EN
CALSCALE:GREGORIAN
METHOD:PUBLISH
X-ORIGINAL-URL:https://thearcpa.org
X-WR-CALDESC:Events for The Arc of Pennsylvania
REFRESH-INTERVAL;VALUE=DURATION:PT1H
X-Robots-Tag:noindex
X-PUBLISHED-TTL:PT1H
BEGIN:VTIMEZONE
TZID:America/New_York
BEGIN:DAYLIGHT
TZOFFSETFROM:-0500
TZOFFSETTO:-0400
TZNAME:EDT
DTSTART:20250309T070000
END:DAYLIGHT
BEGIN:STANDARD
TZOFFSETFROM:-0400
TZOFFSETTO:-0500
TZNAME:EST
DTSTART:20251102T060000
END:STANDARD
BEGIN:DAYLIGHT
TZOFFSETFROM:-0500
TZOFFSETTO:-0400
TZNAME:EDT
DTSTART:20260308T070000
END:DAYLIGHT
BEGIN:STANDARD
TZOFFSETFROM:-0400
TZOFFSETTO:-0500
TZNAME:EST
DTSTART:20261101T060000
END:STANDARD
BEGIN:DAYLIGHT
TZOFFSETFROM:-0500
TZOFFSETTO:-0400
TZNAME:EDT
DTSTART:20270314T070000
END:DAYLIGHT
BEGIN:STANDARD
TZOFFSETFROM:-0400
TZOFFSETTO:-0500
TZNAME:EST
DTSTART:20271107T060000
END:STANDARD
END:VTIMEZONE
BEGIN:VEVENT
DTSTART;TZID=America/New_York:20260519T130000
DTEND;TZID=America/New_York:20260520T170000
DTSTAMP:20260423T095647
CREATED:20260112T213444Z
LAST-MODIFIED:20260411T002301Z
UID:10000794-1779195600-1779296400@thearcpa.org
SUMMARY:2026 Disability Health Action Summit
DESCRIPTION:Beyond Barriers\, Toward Solutions – Registration Is Open!\nThe Arc of Pennsylvania is hosting the 3rd Annual Disability Health Action Summit from May 19-20\, 2026\, in Camp Hill\, PA. This is an in-person only event\, taking place at the Penn Harris Hotel & Convention Center\, with no option to attend virtually. Building on themes of health equity from previous years\, this year’s summit pivots from identifying barriers toward developing sustainable solutions.  Click here for the event schedule Click here to download a flyer \nTickets for attendees are available by scrolling to the bottom of this page.\nIf you are a Self-Advocate or a DSP or caregiver that will be joining a self-advocate to the event\, please reach out to nshirley@thearcpa.org prior to registering. We have limited scholarships available. \nIf you are a current college student\, we have a limited number of discounted tickets available ($30 final cost).  Please contact nshirley@thearcpa.org for a discount code\, prior to registering. \nRegistration closes on May 3\, 2026.\nSponsorship Opportunities\nOrganizations interested in supporting the Disability Health Action Summit are invited to consider our sponsorship opportunities. As a sponsor\, your organization helps make this gathering possible – supporting conversations\, connections\, and collaboration among those working to improve the health and well-being of people with disabilities. Click here to view sponsorship information. \nVendor/Exhibitor Opportunities\nThere will be no vendors on the first day (5/19)\, as it is only a half-day with limited time outside of scheduled sessions. Vendors are only scheduled for the second day (5/20). The fee ($300) covers registration for the summit and accompanying meals (breakfast & lunch on 5/20) for two individuals.\nGeneral Logistics\nTables: 6ft long with two chairs.\nElectricity: Not available. There may be a few wall outlets near some of the tables\, but there is no guarantee that these will be close enough for use.\nLayout: Once vendor registration closes\, we will let all vendors know whether this will remain a “first-come\, first-served” location situation\, or if we will be assigning tables. \nFor more information about the event or sponsorship and vendor opportunities\, please reach out to Nancy Shirley at nshirley@thearcpa.org. \nVenue:\nPenn Harris Hotel and Convention Center\, 1150 Camp Hill Bypass\, Camp Hill PA 17011($124 per night)\nClick here to reserve hotel rooms.  Last day to book using group rate is 5/12/2026.\n\n\nAccommodations:\nThe Arc of Pennsylvania will provide accessibility accommodations requested by at least 4/15/2026.\nQuestions:\nEmail Nancy Shirley at nshirley@thearcpa.org or call 717-234-2621 Ext 106 with questions regarding registration or the summit. \nEmail Susan WoskaBond at sbond@thearcpa.org or call 717-234-2621 Ext 107 with questions regarding the hotel information. \n\nRequest for refund must be requested by 4/28/2026.
URL:https://thearcpa.org/event/2026-disability-health-action-summit/
LOCATION:Penn Harris Hotel and Convention Center Harrisburg Trademark Collection by Wyndham\, 1150 Camp Hill Bypass\, Camp Hill\, PA\, 17011\, United States
CATEGORIES:Breaking News
END:VEVENT
END:VCALENDAR