BEGIN:VCALENDAR
VERSION:2.0
PRODID:-//The Arc of Pennsylvania - ECPv6.15.20//NONSGML v1.0//EN
CALSCALE:GREGORIAN
METHOD:PUBLISH
X-WR-CALNAME:The Arc of Pennsylvania
X-ORIGINAL-URL:https://thearcpa.org
X-WR-CALDESC:Events for The Arc of Pennsylvania
REFRESH-INTERVAL;VALUE=DURATION:PT1H
X-Robots-Tag:noindex
X-PUBLISHED-TTL:PT1H
BEGIN:VTIMEZONE
TZID:America/New_York
BEGIN:DAYLIGHT
TZOFFSETFROM:-0500
TZOFFSETTO:-0400
TZNAME:EDT
DTSTART:20230312T070000
END:DAYLIGHT
BEGIN:STANDARD
TZOFFSETFROM:-0400
TZOFFSETTO:-0500
TZNAME:EST
DTSTART:20231105T060000
END:STANDARD
BEGIN:DAYLIGHT
TZOFFSETFROM:-0500
TZOFFSETTO:-0400
TZNAME:EDT
DTSTART:20240310T070000
END:DAYLIGHT
BEGIN:STANDARD
TZOFFSETFROM:-0400
TZOFFSETTO:-0500
TZNAME:EST
DTSTART:20241103T060000
END:STANDARD
BEGIN:DAYLIGHT
TZOFFSETFROM:-0500
TZOFFSETTO:-0400
TZNAME:EDT
DTSTART:20250309T070000
END:DAYLIGHT
BEGIN:STANDARD
TZOFFSETFROM:-0400
TZOFFSETTO:-0500
TZNAME:EST
DTSTART:20251102T060000
END:STANDARD
END:VTIMEZONE
BEGIN:VEVENT
DTSTART;TZID=America/New_York:20240801T180000
DTEND;TZID=America/New_York:20240801T190000
DTSTAMP:20260424T221908
CREATED:20240503T191547Z
LAST-MODIFIED:20240503T191547Z
UID:10000724-1722535200-1722538800@thearcpa.org
SUMMARY:Include Me Book Study: A Blind Guide to Stinkville
DESCRIPTION:Title: A Blind Guide to Stinkville\, by Beth Vrabel\nGroup: Kids 8-12 years old\nDay/Time: Thursdays\, 6:00 pm – 7:00 pm\nDates: July 11 – August 29\, 8 weeks \nJoin us Thursdays at 6:00 PM beginning July 11 for our new middle years pick for Disability Acceptance through Literature! The group (8 to 12 year-olds and our Include Me facilitators) will meet weekly via Zoom. All learners ages 8-12 are welcome! \nRegistering will save your child a seat. Include your mailing address so we can send you the book! Before our first meeting\, you will receive an email detailing how to log in to the google classroom\, and the Zoom link we’ll use to join in every week. Audiobook recordings will be available. \n  \nClick here to learn more and register.
URL:https://thearcpa.org/event/include-me-book-study-a-blind-guide-to-stinkville/2024-08-01/
END:VEVENT
BEGIN:VEVENT
DTSTART;TZID=America/New_York:20240805T183000
DTEND;TZID=America/New_York:20240805T193000
DTSTAMP:20260424T221908
CREATED:20240503T191245Z
LAST-MODIFIED:20240503T191636Z
UID:10000668-1722882600-1722886200@thearcpa.org
SUMMARY:Include Me Book Study: The House in the Cerulean Sea
DESCRIPTION:Title: The House in the Cerulean Sea\, by TJ Klune\nGroup: Young Adults age 17 and up\nDay/Time: Mondays 6:30 pm – 7:30 pm\nDates: July 8 – August 5 (5 weeks) \nJoin us Mondays at 6:30 pm for our new young adult+ pick for Disability Acceptance through Literature! The YA group and our facilitators meet weekly via Zoom. Participants aged 17 and up are welcome to join; our conversations will be inclusive and honest. Registering will save you a seat! Include your mailing address so we can send you the book box. Before our first meeting\, you will receive an email detailing how to log in to the Google classroom and the Zoom link we’ll use to join in every week. Audio recordings of each chapter will be available in the Google Classroom. \nClick here to learn more and register.
URL:https://thearcpa.org/event/include-me-book-study-the-house-in-the-cerulean-sea/2024-08-05/
END:VEVENT
BEGIN:VEVENT
DTSTART;TZID=America/New_York:20240807T180000
DTEND;TZID=America/New_York:20240807T190000
DTSTAMP:20260424T221908
CREATED:20240503T191822Z
LAST-MODIFIED:20240503T191822Z
UID:10000733-1723053600-1723057200@thearcpa.org
SUMMARY:Include Me Book Study: A Kind of Spark
DESCRIPTION:Title: A Kind of Spark by Elle McNicoll\nGroup: ‘Teens’ 12-17 years old\nDay/Time: Wednesdays 6:00 pm – 7:00 pm\nDates: July 10 – August 14 (6 weeks) \nJoin us Wednesdays at 6:00 pm for our newest pick for the ‘Teen’ DATL book study crew! The group and our facilitators meet weekly via Zoom.\nRegistering will save you a seat! Include your mailing address so we can send you the book. Before our first meeting\, you will receive an email detailing how to log in to the Google classroom and the Zoom link we’ll use to join in every week. Audio recordings of each chapter will be available.\n“Ever since Ms. Murphy told us about the witch trials that happened centuries ago right here in Juniper\, I can’t stop thinking about them. Those people weren’t magic. They were like me. Different like me. \n  \nClick here to learn more and register.
URL:https://thearcpa.org/event/include-me-book-study-a-kind-of-spark/2024-08-07/
END:VEVENT
BEGIN:VEVENT
DTSTART;TZID=America/New_York:20240808T180000
DTEND;TZID=America/New_York:20240808T190000
DTSTAMP:20260424T221908
CREATED:20240503T191547Z
LAST-MODIFIED:20240503T191547Z
UID:10000725-1723140000-1723143600@thearcpa.org
SUMMARY:Include Me Book Study: A Blind Guide to Stinkville
DESCRIPTION:Title: A Blind Guide to Stinkville\, by Beth Vrabel\nGroup: Kids 8-12 years old\nDay/Time: Thursdays\, 6:00 pm – 7:00 pm\nDates: July 11 – August 29\, 8 weeks \nJoin us Thursdays at 6:00 PM beginning July 11 for our new middle years pick for Disability Acceptance through Literature! The group (8 to 12 year-olds and our Include Me facilitators) will meet weekly via Zoom. All learners ages 8-12 are welcome! \nRegistering will save your child a seat. Include your mailing address so we can send you the book! Before our first meeting\, you will receive an email detailing how to log in to the google classroom\, and the Zoom link we’ll use to join in every week. Audiobook recordings will be available. \n  \nClick here to learn more and register.
URL:https://thearcpa.org/event/include-me-book-study-a-blind-guide-to-stinkville/2024-08-08/
END:VEVENT
BEGIN:VEVENT
DTSTART;TZID=America/New_York:20240814T090000
DTEND;TZID=America/New_York:20240816T153000
DTSTAMP:20260424T221908
CREATED:20240429T135745Z
LAST-MODIFIED:20240606T134414Z
UID:10000633-1723626000-1723822200@thearcpa.org
SUMMARY:ACRE August 14-16\, 2024
DESCRIPTION:Purchase tickets at the bottom of this page.\nDates and Time: \n\nAugust 14-16\, 2024\n9am – 3:30pm Eastern and a 1-hour lunch break at 12pm\nAgenda of the 3 days can be viewed here: ACRE Agenda\n\nVenue:\nOnline\, Zoom \nCost:\n\n$450 per person\nRefunds: Request for refund must be submitted by July 31\, 2024\n\nCourse Certification Requirements:\n\nAttend all days of zoom classes\nComplete all assigned coursework\nComplete self-directed online coursework (Reading\, Webinars\, and Quizzes)\nView a full list of the course requirements here: Certification Requirements \n\nCertification:\nAttendees who successfully complete our course will receive an ACRE Basic Certification. This is a nationally recognized professional certificate. Direct service providers of Supported Employment and Community Participation Supports are required to have this or CESP equivalent in PA. \nAccommodations:\nThe Arc of Pennsylvania will provide accessibility accommodations requested at least 30 days in advance. \nQuestions:\nEmail Anthony Chan at achan@includemepa.org 
URL:https://thearcpa.org/event/acre-august-14-16-2024/
END:VEVENT
BEGIN:VEVENT
DTSTART;TZID=America/New_York:20240814T180000
DTEND;TZID=America/New_York:20240814T190000
DTSTAMP:20260424T221908
CREATED:20240503T191822Z
LAST-MODIFIED:20240503T191822Z
UID:10000734-1723658400-1723662000@thearcpa.org
SUMMARY:Include Me Book Study: A Kind of Spark
DESCRIPTION:Title: A Kind of Spark by Elle McNicoll\nGroup: ‘Teens’ 12-17 years old\nDay/Time: Wednesdays 6:00 pm – 7:00 pm\nDates: July 10 – August 14 (6 weeks) \nJoin us Wednesdays at 6:00 pm for our newest pick for the ‘Teen’ DATL book study crew! The group and our facilitators meet weekly via Zoom.\nRegistering will save you a seat! Include your mailing address so we can send you the book. Before our first meeting\, you will receive an email detailing how to log in to the Google classroom and the Zoom link we’ll use to join in every week. Audio recordings of each chapter will be available.\n“Ever since Ms. Murphy told us about the witch trials that happened centuries ago right here in Juniper\, I can’t stop thinking about them. Those people weren’t magic. They were like me. Different like me. \n  \nClick here to learn more and register.
URL:https://thearcpa.org/event/include-me-book-study-a-kind-of-spark/2024-08-14/
END:VEVENT
BEGIN:VEVENT
DTSTART;TZID=America/New_York:20240815T180000
DTEND;TZID=America/New_York:20240815T190000
DTSTAMP:20260424T221908
CREATED:20240503T191547Z
LAST-MODIFIED:20240503T191547Z
UID:10000726-1723744800-1723748400@thearcpa.org
SUMMARY:Include Me Book Study: A Blind Guide to Stinkville
DESCRIPTION:Title: A Blind Guide to Stinkville\, by Beth Vrabel\nGroup: Kids 8-12 years old\nDay/Time: Thursdays\, 6:00 pm – 7:00 pm\nDates: July 11 – August 29\, 8 weeks \nJoin us Thursdays at 6:00 PM beginning July 11 for our new middle years pick for Disability Acceptance through Literature! The group (8 to 12 year-olds and our Include Me facilitators) will meet weekly via Zoom. All learners ages 8-12 are welcome! \nRegistering will save your child a seat. Include your mailing address so we can send you the book! Before our first meeting\, you will receive an email detailing how to log in to the google classroom\, and the Zoom link we’ll use to join in every week. Audiobook recordings will be available. \n  \nClick here to learn more and register.
URL:https://thearcpa.org/event/include-me-book-study-a-blind-guide-to-stinkville/2024-08-15/
END:VEVENT
BEGIN:VEVENT
DTSTART;TZID=America/New_York:20240822T180000
DTEND;TZID=America/New_York:20240822T190000
DTSTAMP:20260424T221908
CREATED:20240503T191547Z
LAST-MODIFIED:20240503T191547Z
UID:10000727-1724349600-1724353200@thearcpa.org
SUMMARY:Include Me Book Study: A Blind Guide to Stinkville
DESCRIPTION:Title: A Blind Guide to Stinkville\, by Beth Vrabel\nGroup: Kids 8-12 years old\nDay/Time: Thursdays\, 6:00 pm – 7:00 pm\nDates: July 11 – August 29\, 8 weeks \nJoin us Thursdays at 6:00 PM beginning July 11 for our new middle years pick for Disability Acceptance through Literature! The group (8 to 12 year-olds and our Include Me facilitators) will meet weekly via Zoom. All learners ages 8-12 are welcome! \nRegistering will save your child a seat. Include your mailing address so we can send you the book! Before our first meeting\, you will receive an email detailing how to log in to the google classroom\, and the Zoom link we’ll use to join in every week. Audiobook recordings will be available. \n  \nClick here to learn more and register.
URL:https://thearcpa.org/event/include-me-book-study-a-blind-guide-to-stinkville/2024-08-22/
END:VEVENT
BEGIN:VEVENT
DTSTART;TZID=America/New_York:20240829T180000
DTEND;TZID=America/New_York:20240829T190000
DTSTAMP:20260424T221908
CREATED:20240503T191547Z
LAST-MODIFIED:20240503T191547Z
UID:10000728-1724954400-1724958000@thearcpa.org
SUMMARY:Include Me Book Study: A Blind Guide to Stinkville
DESCRIPTION:Title: A Blind Guide to Stinkville\, by Beth Vrabel\nGroup: Kids 8-12 years old\nDay/Time: Thursdays\, 6:00 pm – 7:00 pm\nDates: July 11 – August 29\, 8 weeks \nJoin us Thursdays at 6:00 PM beginning July 11 for our new middle years pick for Disability Acceptance through Literature! The group (8 to 12 year-olds and our Include Me facilitators) will meet weekly via Zoom. All learners ages 8-12 are welcome! \nRegistering will save your child a seat. Include your mailing address so we can send you the book! Before our first meeting\, you will receive an email detailing how to log in to the google classroom\, and the Zoom link we’ll use to join in every week. Audiobook recordings will be available. \n  \nClick here to learn more and register.
URL:https://thearcpa.org/event/include-me-book-study-a-blind-guide-to-stinkville/2024-08-29/
END:VEVENT
END:VCALENDAR